BEGIN:VCALENDAR
VERSION:2.0
PRODID:-//Conservatorio Fausto Torrefranca - ECPv6.0.1.1//NONSGML v1.0//EN
CALSCALE:GREGORIAN
METHOD:PUBLISH
X-ORIGINAL-URL:https://consvv.it
X-WR-CALDESC:Events for Conservatorio Fausto Torrefranca
REFRESH-INTERVAL;VALUE=DURATION:PT1H
X-Robots-Tag:noindex
X-PUBLISHED-TTL:PT1H
BEGIN:VTIMEZONE
TZID:Europe/Rome
BEGIN:DAYLIGHT
TZOFFSETFROM:+0100
TZOFFSETTO:+0200
TZNAME:CEST
DTSTART:20250330T010000
END:DAYLIGHT
BEGIN:STANDARD
TZOFFSETFROM:+0200
TZOFFSETTO:+0100
TZNAME:CET
DTSTART:20251026T010000
END:STANDARD
END:VTIMEZONE
BEGIN:VEVENT
DTSTART;TZID=Europe/Rome:20250729T160000
DTEND;TZID=Europe/Rome:20250729T160000
DTSTAMP:20260421T215022
CREATED:20250729T143110Z
LAST-MODIFIED:20250729T155006Z
UID:52893-1753804800-1753804800@consvv.it
SUMMARY:Pubblicato il terzo numero dei «Quaderni di analisi»
DESCRIPTION:Il volume raccoglie gli atti della Giornata di studi: «L’universo sonoro di György Ligeti (1923-2006)» che si è svolta a Vibo Valentia l’11 ottobre 2023. \nContiene contributi di Luigi Sassone\, Giulia Maria Rita Basile\, Salvatore Mirenda\, Domenico Giannetta\, Luigi Mogrovejo\, Maria D’Agostino\, Michele Arena e Antonio Ferrara. \nQuaderni di analisi – volume 3: «L’universo sonoro di György Ligeti»\na cura di Domenico Giannetta\nEdizioni del Conservatorio di Musica Fausto Torrefranca\nVibo Valentia\, luglio 2025 (pp. xii+226)\nISBN 978-88-945943-5-5 \n** \nSommario:\nIntroduzione\nGiornata di studi: programma dei lavori\nDomenico Giannetta\, György Ligeti: l’uomo\, il musicista\, il teorico\nLuigi Sassone\, Tradizione\, ricerca e idiomi compositivi nei quartetti per archi di Ligeti\nGiulia Maria Rita Basile\, Entropia fisica e durée bergsoniana nel Poème symphonique (1962) di György Ligeti\nSalvatore Mirenda\, Da Beethoven a Ligeti: elaborazione motivica\, melodia occultata e tecnica dell’unisono imperfetto\nDomenico Giannetta\, Come un meccanismo di precisione: il ruolo del ritmo nella musica di Ligeti\nLuigi Mogrovejo\, Le Grand Macabre di György Ligeti: «L’opera della mia vita»\nMaria D’Agostino\, Unione di costruzione e poetica: gli Studi per pianoforte di György Ligeti\nMichele Arena\, Fenomenologia sonora nella geometria ritmica di Ligeti: analisi e orchestrazione di Fém\nAntonio Ferrara\, Kubrick docet: la musica di Ligeti al cinema\nNotizie sugli autori \n** \nPer tutte le info sui Quaderni di analisi e per sfogliare il volume online vai a questo link \n 
URL:https://consvv.it/evento/pubblicato-il-terzo-numero-dei-quaderni-di-analisi
LOCATION:Conservatorio di Musica ‘F. Torrefranca’\, Via Corsea\, Vibo Valentia\, VV\, 89900\, Italia
CATEGORIES:Pubblicazioni
ATTACH;FMTTYPE=image/jpeg:https://consvv.it/wp-content/uploads/quaderni-di-analisi-3_copertina_small.jpg
END:VEVENT
END:VCALENDAR